BEGIN:VCALENDAR
VERSION:2.0
PRODID:-//CSKIK - ECPv6.15.20//NONSGML v1.0//EN
CALSCALE:GREGORIAN
METHOD:PUBLISH
X-WR-CALNAME:CSKIK
X-ORIGINAL-URL:https://cskik.hu
X-WR-CALDESC:Események CSKIK
REFRESH-INTERVAL;VALUE=DURATION:PT1H
X-Robots-Tag:noindex
X-PUBLISHED-TTL:PT1H
BEGIN:VTIMEZONE
TZID:Europe/Budapest
BEGIN:DAYLIGHT
TZOFFSETFROM:+0100
TZOFFSETTO:+0200
TZNAME:CEST
DTSTART:20240331T010000
END:DAYLIGHT
BEGIN:STANDARD
TZOFFSETFROM:+0200
TZOFFSETTO:+0100
TZNAME:CET
DTSTART:20241027T010000
END:STANDARD
BEGIN:DAYLIGHT
TZOFFSETFROM:+0100
TZOFFSETTO:+0200
TZNAME:CEST
DTSTART:20250330T010000
END:DAYLIGHT
BEGIN:STANDARD
TZOFFSETFROM:+0200
TZOFFSETTO:+0100
TZNAME:CET
DTSTART:20251026T010000
END:STANDARD
BEGIN:DAYLIGHT
TZOFFSETFROM:+0100
TZOFFSETTO:+0200
TZNAME:CEST
DTSTART:20260329T010000
END:DAYLIGHT
BEGIN:STANDARD
TZOFFSETFROM:+0200
TZOFFSETTO:+0100
TZNAME:CET
DTSTART:20261025T010000
END:STANDARD
END:VTIMEZONE
BEGIN:VEVENT
DTSTART;TZID=Europe/Budapest:20250612T000000
DTEND;TZID=Europe/Budapest:20250628T000000
DTSTAMP:20260421T150059
CREATED:20251219T111203Z
LAST-MODIFIED:20251219T111203Z
UID:35293-1749686400-1751068800@cskik.hu
SUMMARY:Várjuk Kamarai Gyakorlati Oktató Képzésünkre!
DESCRIPTION:A kamarai gyakorlati oktató képzés és vizsga azokat a gyakorlati oktatóként alkalmazott szakembereket/szakoktatókat érinti\, akik iskolán kívüli (küls?) gyakorlati képz?helyen foglalkoznak tanulóval az iskolai rendszer? szakképzésben. Ez a képzés fejl?dési lehet?séget biztosít a gyakorlati oktatóknak\, szakoktatóknak a tanulókkal való egyes problémás szituációk kezelésében\, ugyanakkor min?ségi tudásra tehetnek szert\, amely segítségével magasabb színvonalra emelhet? a gyakorlati oktatás. \nA képzési id? összesen 50 óra\, amely két szakaszból tev?dik össze: 25 óra elmélet és 25 óra (3 napos) tréning. \nJelentkezni 5 éves szakmai gyakorlat igazolásával\, szakmai végzettséget igazoló dokumentum másolatával és eredetiben kitöltött jelentkezési lappal lehet. \nA képzés id?pontjai az alábbiak: \nElméleti képzés:   2025. június 12-13-14. (9-16 óráig)  \nOnline vizsga:       2025. június 17-18. \nTréning:                2025. június 23-24-25. (9-16 óra) \nSzóbeli Vizsga:     2025. június 28. (9-13 óra) \nHelyszín:              CSKIK\, 6721 Szeged\, Párizsi krt. 8-12. \n  \nB?vebb információ az alábbi elérhet?ségeken kérhet?: \nDankó Viktória: 62/549-394\, 30/455-1494 \nfelnottkepzes@cskik.hu
URL:https://cskik.hu/esemeny/varjuk-kamarai-gyakorlati-oktato-kepzesunkre-2/
END:VEVENT
END:VCALENDAR