BEGIN:VCALENDAR
VERSION:2.0
PRODID:-//CSKIK - ECPv6.15.20//NONSGML v1.0//EN
CALSCALE:GREGORIAN
METHOD:PUBLISH
X-WR-CALNAME:CSKIK
X-ORIGINAL-URL:https://cskik.hu
X-WR-CALDESC:Események CSKIK
REFRESH-INTERVAL;VALUE=DURATION:PT1H
X-Robots-Tag:noindex
X-PUBLISHED-TTL:PT1H
BEGIN:VTIMEZONE
TZID:Europe/Budapest
BEGIN:DAYLIGHT
TZOFFSETFROM:+0100
TZOFFSETTO:+0200
TZNAME:CEST
DTSTART:20230326T010000
END:DAYLIGHT
BEGIN:STANDARD
TZOFFSETFROM:+0200
TZOFFSETTO:+0100
TZNAME:CET
DTSTART:20231029T010000
END:STANDARD
BEGIN:DAYLIGHT
TZOFFSETFROM:+0100
TZOFFSETTO:+0200
TZNAME:CEST
DTSTART:20240331T010000
END:DAYLIGHT
BEGIN:STANDARD
TZOFFSETFROM:+0200
TZOFFSETTO:+0100
TZNAME:CET
DTSTART:20241027T010000
END:STANDARD
BEGIN:DAYLIGHT
TZOFFSETFROM:+0100
TZOFFSETTO:+0200
TZNAME:CEST
DTSTART:20250330T010000
END:DAYLIGHT
BEGIN:STANDARD
TZOFFSETFROM:+0200
TZOFFSETTO:+0100
TZNAME:CET
DTSTART:20251026T010000
END:STANDARD
END:VTIMEZONE
BEGIN:VEVENT
DTSTART;TZID=Europe/Budapest:20240527T000000
DTEND;TZID=Europe/Budapest:20240529T000000
DTSTAMP:20260425T221621
CREATED:20251209T145132Z
LAST-MODIFIED:20251209T145132Z
UID:29068-1716768000-1716940800@cskik.hu
SUMMARY:VIII Solar Energy Hybrid Business Mixer
DESCRIPTION:Az Enterprise Europe Network társszervezésében a PV 2024 kongresszuson a Lengyel Fotovoltaikai Szövetség által szervezett eseményre kerül sor május 27-29. között\, Varsóban. \nA lengyelországi fotovoltaikus ipar dinamikus fejl?dése\, a gyorsan változó üzleti modellek és azok feltételei megkövetelik a piaci változások folyamatos nyomon követését. Az iparági találkozók rengeteg ismeretet és üzleti kapcsolatot jelentenek\, és egyben a piac megfigyelésének is kiváló eszközei. \nAz üléseket vegyes modellben – online és a helyszínen – tartják. \nId?pont: \n\nmájus 27. – személyes részvétellel\nmájus 28. – online részvétellel\nmájus 29. – online részvétellel\n\nHelyszín: DoubleTree by Hilton Hotel & Conference Centre Warsaw\, Skalnicowa 21\, 04-797 Varsó\, Lengyelország \nA részvétel ingyenes\, de el?zetes regisztrációhoz kötött. \nJelentkezés: https://viii-solar-energy-business-mixer.b2match.io/home
URL:https://cskik.hu/esemeny/viii-solar-energy-hybrid-business-mixer/
END:VEVENT
END:VCALENDAR