BEGIN:VCALENDAR
VERSION:2.0
PRODID:-//CSKIK - ECPv6.15.20//NONSGML v1.0//EN
CALSCALE:GREGORIAN
METHOD:PUBLISH
X-WR-CALNAME:CSKIK
X-ORIGINAL-URL:https://cskik.hu
X-WR-CALDESC:Események CSKIK
REFRESH-INTERVAL;VALUE=DURATION:PT1H
X-Robots-Tag:noindex
X-PUBLISHED-TTL:PT1H
BEGIN:VTIMEZONE
TZID:Europe/Budapest
BEGIN:DAYLIGHT
TZOFFSETFROM:+0100
TZOFFSETTO:+0200
TZNAME:CEST
DTSTART:20240331T010000
END:DAYLIGHT
BEGIN:STANDARD
TZOFFSETFROM:+0200
TZOFFSETTO:+0100
TZNAME:CET
DTSTART:20241027T010000
END:STANDARD
BEGIN:DAYLIGHT
TZOFFSETFROM:+0100
TZOFFSETTO:+0200
TZNAME:CEST
DTSTART:20250330T010000
END:DAYLIGHT
BEGIN:STANDARD
TZOFFSETFROM:+0200
TZOFFSETTO:+0100
TZNAME:CET
DTSTART:20251026T010000
END:STANDARD
BEGIN:DAYLIGHT
TZOFFSETFROM:+0100
TZOFFSETTO:+0200
TZNAME:CEST
DTSTART:20260329T010000
END:DAYLIGHT
BEGIN:STANDARD
TZOFFSETFROM:+0200
TZOFFSETTO:+0100
TZNAME:CET
DTSTART:20261025T010000
END:STANDARD
END:VTIMEZONE
BEGIN:VEVENT
DTSTART;TZID=Europe/Budapest:20250605T000000
DTEND;TZID=Europe/Budapest:20250605T000000
DTSTAMP:20260421T075222
CREATED:20251219T110448Z
LAST-MODIFIED:20251219T110448Z
UID:35215-1749081600-1749081600@cskik.hu
SUMMARY:XVI. Nemzetközi Építésügyi Konferencia
DESCRIPTION:A Csongrád-Csanád Vármegyei Mérnöki Kamara a Csongrád-Csanád Vármegyei Építész Kamarával\, a Csongrád-Csanádi Kereskedelmi és Iparkamarával\, az Enterprise Europe Network Dél-alföldi Regionális Irodájával és a Dél-Alföldi Urbanisztikai Egyesülettel együttm?ködve 2025. június 5-én rendezi meg a XVI. Nemzetközi Építésügyi Konferenciát. \nAz éghajlatváltozás széls?séges hatásai kiterjednek az emberre\, az épített környezetre és az összes környezeti elemre. A negatív következmények kezelésére vannak törekvések világ-\, országos-\, és helyi szinten. A konferencia célja\, hogy a kamara szakmai el?adások keretében mutassa be a klímaváltozás következményeit és a megoldási lehet?ségeket. \nA programot ITT olvashatja. \nJelentkezési feltételek és regiszráció:Kérjük a jelentkezésnél figyelemmel lenni\, hogy melyik szervezet tagjaként kíván beregisztrálni.  \nA Csongrád-Csanád Vármegyei Mérnöki Kamara részér?l a konferencián történ? részvétellel a magas- és mélyépítési\, valamint vízgazdálkodási és vízépítési szakterületen jogosultsággal rendelkez? szakmagyakorlók a 2025. évi szakmai továbbképzési kötelezettségüket teljesíthetik. \nA Csongrád-Csanád Vármegyei Mérnöki Kamaránál nyilvántartottak számára a részvételi díj: bruttó 16.000 Ft/f?A Csongrád-Csanád Vármegyei Építész Kamara résztvev?i számára a részvételi díj: bruttó 9.000 Ft/f?A Dél-Alföldi Urbanisztikai Egyesület (Nem Építész Kamara tag) résztvev?i számára a fizetés az egyesülettel való megegyezés alapján.A Csongrád-Csanádi Kereskedelmi és Iparkamara hátralékkal nem rendelkez? önkéntes tagjai számára a részvételi díj 8.000 Ft+Áfa/f?\, egyéb vállalkozásnak 13.000 Ft+Áfa/f?.  \nREGISZTRÁCIÓ \nJelentkezési határid?: 2025. május 29.  \n  \n  \nAz Enterprise Europe Network keretében a „Hungarian Consortium for Enterprises” c. projekt megvalósulását az Európai Bizottság és a Miniszterelnökség Területfejlesztési Parlamenti Államtitkársága támogatja.
URL:https://cskik.hu/esemeny/xvi-nemzetkozi-epitesugyi-konferencia/
END:VEVENT
END:VCALENDAR